BEGIN:VCALENDAR
VERSION:2.0
PRODID:-//The Brock Report - ECPv6.15.9//NONSGML v1.0//EN
CALSCALE:GREGORIAN
METHOD:PUBLISH
X-ORIGINAL-URL:https://www.brockreport.com
X-WR-CALDESC:Events for The Brock Report
REFRESH-INTERVAL;VALUE=DURATION:PT1H
X-Robots-Tag:noindex
X-PUBLISHED-TTL:PT1H
BEGIN:VTIMEZONE
TZID:America/Chicago
BEGIN:DAYLIGHT
TZOFFSETFROM:-0600
TZOFFSETTO:-0500
TZNAME:CDT
DTSTART:20250309T080000
END:DAYLIGHT
BEGIN:STANDARD
TZOFFSETFROM:-0500
TZOFFSETTO:-0600
TZNAME:CST
DTSTART:20251102T070000
END:STANDARD
BEGIN:DAYLIGHT
TZOFFSETFROM:-0600
TZOFFSETTO:-0500
TZNAME:CDT
DTSTART:20260308T080000
END:DAYLIGHT
BEGIN:STANDARD
TZOFFSETFROM:-0500
TZOFFSETTO:-0600
TZNAME:CST
DTSTART:20261101T070000
END:STANDARD
BEGIN:DAYLIGHT
TZOFFSETFROM:-0600
TZOFFSETTO:-0500
TZNAME:CDT
DTSTART:20270314T080000
END:DAYLIGHT
BEGIN:STANDARD
TZOFFSETFROM:-0500
TZOFFSETTO:-0600
TZNAME:CST
DTSTART:20271107T070000
END:STANDARD
END:VTIMEZONE
BEGIN:VEVENT
DTSTART;TZID=America/Chicago:20260211T093000
DTEND;TZID=America/Chicago:20260211T120000
DTSTAMP:20260425T150548
CREATED:20260114T201233Z
LAST-MODIFIED:20260114T201522Z
UID:10000048-1770802200-1770811200@www.brockreport.com
SUMMARY:Horicon Bank - Beaver Dam\, WI
DESCRIPTION:Ag Commodity Markets: Challenges & Opportunities Event\, with Richard Brock \nJoin us February 11 for an essential agricultural update designed for dairy\, beef\, and grain producers preparing for the year ahead. This event covers Agricultural Commodity Markets and Trust Services\, delivering practical insights to help you make informed decisions on feed costs\, grain marketing\, margins\, and risk – tools you can put to work immediately. \nAs you plan for the year ahead\, this event will deliver practical\, actionable insights for producers and ag businesses. You’ll hear from: \n\nRichard Brock — Chairman of Brock Holding Company and publisher\nof The Brock Report. Richard has advised producers and leading\npoultry\, pork\, dairy\, and food companies nationwide on grain\nmarketing strategies and purchasing.\nChris Berens\, VP of Trust Services at Horicon Bank\, will discuss estate\nplanning topics to help protect and transition agricultural operations.\n\nEvent details:\nDate: Wednesday\, February 11\nLocation: Old Hickory Golf Club\, W7596 WI-33\, Beaver Dam \n\n9:30am – Registration and Light Breakfast\n10:00am – Ag Commodity Markets: Challenges & Opportunities\n11:45am – Estate Planning Essentials\n12:00pm – Lunch Provided by Horicon Bank\n\nSpace is limited! Click below to secure your spot by Wednesday\, January 28! \nAgricultural Commodity Trends & Opportunities Event – Fill out form \n 
URL:https://www.brockreport.com/event/horicon-bank-beaver-dam-wi/
LOCATION:Old Hickory Golf Club\, W7596 Highway 33 East\, Beaver Dam\, WI\, 53916\, United States
END:VEVENT
END:VCALENDAR